BEGIN:VCALENDAR
VERSION:2.0
PRODID:-//kompott.org - ECPv6.13.2.1//NONSGML v1.0//EN
CALSCALE:GREGORIAN
METHOD:PUBLISH
X-WR-CALNAME:kompott.org
X-ORIGINAL-URL:https://kompott.org
X-WR-CALDESC:Veranstaltungen für kompott.org
REFRESH-INTERVAL;VALUE=DURATION:PT1H
X-Robots-Tag:noindex
X-PUBLISHED-TTL:PT1H
BEGIN:VTIMEZONE
TZID:Europe/Berlin
BEGIN:DAYLIGHT
TZOFFSETFROM:+0100
TZOFFSETTO:+0200
TZNAME:CEST
DTSTART:20260329T010000
END:DAYLIGHT
BEGIN:STANDARD
TZOFFSETFROM:+0200
TZOFFSETTO:+0100
TZNAME:CET
DTSTART:20261025T010000
END:STANDARD
END:VTIMEZONE
BEGIN:VEVENT
DTSTART;TZID=Europe/Berlin:20260212T090000
DTEND;TZID=Europe/Berlin:20260731T000000
DTSTAMP:20260421T105542
CREATED:20260208T133119Z
LAST-MODIFIED:20260208T133247Z
UID:10000061-1770886800-1785456000@kompott.org
SUMMARY:SCHEIN&SEIN - Ausstellung Bielefeld
DESCRIPTION:Die neue Volksbank-Lobby Ausstellung in Bielefeld.\n\nWas bedeutet Schein & Sein eigentlich? Mit dieser großen Frage beschäftigten sich insgesamt 53 Künstler*innen für unsere neue Ausstellung und interpretierten die vielfältigen Antworten in einer mannigfaltigen Auswahl an künstlerischen Arbeiten. In Zusammenarbeit mit der Stattgalerie öffnen wir nicht nur in Bielefeld\, sondern auch in Gütersloh unsere Türen\, um euch die Werke des regionalen Kunstschaffens zeigen zu können. \nZwei Worte\, zwei Orte mit jeweils zwei Veranstaltungen. Eintritt frei!
URL:https://kompott.org/event/scheinsein-ausstellung-bielefeld/
LOCATION:VOLKSBANK-LOBBY\, Kesselbrink 1\, Bielefeld\, NRW\, 33602\, Germany
CATEGORIES:Ausstellung,Kunst
ATTACH;FMTTYPE=image/jpeg:https://kompott.org/wp-content/uploads/2026/02/random_bericht_03.jpg
END:VEVENT
END:VCALENDAR