BEGIN:VCALENDAR
VERSION:2.0
PRODID:-//kompott.org - ECPv6.13.2.1//NONSGML v1.0//EN
CALSCALE:GREGORIAN
METHOD:PUBLISH
X-WR-CALNAME:kompott.org
X-ORIGINAL-URL:https://kompott.org
X-WR-CALDESC:Veranstaltungen für kompott.org
REFRESH-INTERVAL;VALUE=DURATION:PT1H
X-Robots-Tag:noindex
X-PUBLISHED-TTL:PT1H
BEGIN:VTIMEZONE
TZID:Europe/Berlin
BEGIN:DAYLIGHT
TZOFFSETFROM:+0100
TZOFFSETTO:+0200
TZNAME:CEST
DTSTART:20260329T010000
END:DAYLIGHT
BEGIN:STANDARD
TZOFFSETFROM:+0200
TZOFFSETTO:+0100
TZNAME:CET
DTSTART:20261025T010000
END:STANDARD
END:VTIMEZONE
BEGIN:VEVENT
DTSTART;TZID=Europe/Berlin:20260223T180000
DTEND;TZID=Europe/Berlin:20260223T220000
DTSTAMP:20260423T131241
CREATED:20260216T075200Z
LAST-MODIFIED:20260216T075200Z
UID:10000164-1771869600-1771884000@kompott.org
SUMMARY:On Motherhood - Poetry Slam
DESCRIPTION:23.02.26\, 18 Uhr \nÜberforderung\, gesellschaftliche Erwartungen\, persönliche Wahrheiten – vier Slammer*innen – Heidi Daniels\, Jeanette Kasper-Feldt\, Julia Kluge und Ruth – nehmen das Thema Mutterschaft in all seinen Facetten unter die Lupe. Mal berührend\, mal humorvoll\, immer authentisch. Ein Abend voller Sprache und Emotionen\, der Raum gibt für all das\, was sonst oft unausgesprochen bleibt. \nVHS Bielefeld\, Ravensberger Park 1\, 33607 Bielefeld
URL:https://kompott.org/event/on-motherhood-poetry-slam/
LOCATION:VOLKSHOCHSCHULE BIELEFELD (VHS)\, Ravensberger Park 1\, Bielefeld\, Nordrhein-Westfalen\, 33607\, Germany
ATTACH;FMTTYPE=image/jpeg:https://kompott.org/wp-content/uploads/2026/02/ff-c45689b199b5a862cf1977ed8538074e-ff-diak.jpg
GEO:52.0224264;8.5433008
X-APPLE-STRUCTURED-LOCATION;VALUE=URI;X-ADDRESS=VOLKSHOCHSCHULE BIELEFELD (VHS) Ravensberger Park 1 Bielefeld Nordrhein-Westfalen 33607 Germany;X-APPLE-RADIUS=500;X-TITLE=Ravensberger Park 1:geo:8.5433008,52.0224264
END:VEVENT
END:VCALENDAR