BEGIN:VCALENDAR
VERSION:2.0
PRODID:-//kompott.org - ECPv6.13.2.1//NONSGML v1.0//EN
CALSCALE:GREGORIAN
METHOD:PUBLISH
X-ORIGINAL-URL:https://kompott.org
X-WR-CALDESC:Veranstaltungen für kompott.org
REFRESH-INTERVAL;VALUE=DURATION:PT1H
X-Robots-Tag:noindex
X-PUBLISHED-TTL:PT1H
BEGIN:VTIMEZONE
TZID:Europe/Berlin
BEGIN:DAYLIGHT
TZOFFSETFROM:+0100
TZOFFSETTO:+0200
TZNAME:CEST
DTSTART:20260329T010000
END:DAYLIGHT
BEGIN:STANDARD
TZOFFSETFROM:+0200
TZOFFSETTO:+0100
TZNAME:CET
DTSTART:20261025T010000
END:STANDARD
END:VTIMEZONE
BEGIN:VEVENT
DTSTART;TZID=Europe/Berlin:20260322T140000
DTEND;TZID=Europe/Berlin:20260322T190000
DTSTAMP:20260420T124756
CREATED:20260212T122243Z
LAST-MODIFIED:20260212T122243Z
UID:10000158-1774188000-1774206000@kompott.org
SUMMARY:connect & create - Musiktreff für Jugendliche
DESCRIPTION:Du hast Bock\, mit anderen Jugendlichen Musik zu machen? Du möchtest lernen\, wie man ein DJ-Pult bedient? Du bist gerne kreativ oder willst dich in der jungen Bielefelder Kreativszene stärker vernetzen?\nDann komm doch zu “connect & create” am 22. März im Bunker Ulmenwall! Es wird zwei spannende Workshops und eine Session geben – und das alles nur für junge Leute.\nFür die Session könnt ihr einfach vorbeikommen (egal ob zum Mitspielen oder zum Zuhören)\, für die Workshops könnt ihr euch über den QR-Code anmelden.
URL:https://kompott.org/event/connect-create-musiktreff-fuer-jugendliche/
LOCATION:BUNKER ULMENWALL\, Kreuzstraße 0\, Bielefeld\, NRW\, 33602\, Germany
ATTACH;FMTTYPE=image/png:https://kompott.org/wp-content/uploads/2026/02/ff-c363090656f03790678fabe6f489ebd2-ff-Plakat-connectcreate.png
ORGANIZER;CN="Bunker Ulmenwall":MAILTO:info@bunker-ulmenwall.org
GEO:52.0161698;8.5319178
X-APPLE-STRUCTURED-LOCATION;VALUE=URI;X-ADDRESS=BUNKER ULMENWALL Kreuzstraße 0 Bielefeld NRW 33602 Germany;X-APPLE-RADIUS=500;X-TITLE=Kreuzstraße 0:geo:8.5319178,52.0161698
END:VEVENT
END:VCALENDAR