BEGIN:VCALENDAR
VERSION:2.0
PRODID:-//kompott.org - ECPv6.13.2.1//NONSGML v1.0//EN
CALSCALE:GREGORIAN
METHOD:PUBLISH
X-WR-CALNAME:kompott.org
X-ORIGINAL-URL:https://kompott.org
X-WR-CALDESC:Veranstaltungen für kompott.org
REFRESH-INTERVAL;VALUE=DURATION:PT1H
X-Robots-Tag:noindex
X-PUBLISHED-TTL:PT1H
BEGIN:VTIMEZONE
TZID:Europe/Berlin
BEGIN:DAYLIGHT
TZOFFSETFROM:+0100
TZOFFSETTO:+0200
TZNAME:CEST
DTSTART:20260329T010000
END:DAYLIGHT
BEGIN:STANDARD
TZOFFSETFROM:+0200
TZOFFSETTO:+0100
TZNAME:CET
DTSTART:20261025T010000
END:STANDARD
END:VTIMEZONE
BEGIN:VEVENT
DTSTART;TZID=Europe/Berlin:20260319T193000
DTEND;TZID=Europe/Berlin:20260319T193000
DTSTAMP:20260424T112858
CREATED:20260120T115918Z
LAST-MODIFIED:20260318T172019Z
UID:10000034-1773948600-1773948600@kompott.org
SUMMARY:Jukebox
DESCRIPTION:Die Jukebox Bielefeld ist ein Live-Konzert\, das Newcomer*innen eine Bühne bietet auf welcher sie sich präsentieren können. 20 Minuten haben die Künstler*innen Zeit\, um Ihre Musik – Ihre Kunst mit dem Publikum zu teilen und zu zeigen\, wer sie sind und was sie und Ihre Musik ausmacht!\n4 Verschiedene Künstler*innen; von Rap und RnB/Soul bis zu Hip-Hop\, Boombap uvm. Der Name ist Programm: Eine Vielfalt an Musik\, Kunst\, Menschen\, Vibes und Erlebnissen.\nDas\, Kulturliebende Menschen\, ist die Jukebox Bielefeld. \n   \n 
URL:https://kompott.org/event/jukebox/
LOCATION:BUNKER ULMENWALL\, Kreuzstraße 0\, Bielefeld\, NRW\, 33602\, Germany
CATEGORIES:Konzert
ATTACH;FMTTYPE=image/png:https://kompott.org/wp-content/uploads/2026/01/Flyer.png
ORGANIZER;CN="Bielefelder Jugendring":MAILTO:Jukeboxbielefeld@outlook.de
GEO:52.0161698;8.5319178
X-APPLE-STRUCTURED-LOCATION;VALUE=URI;X-ADDRESS=BUNKER ULMENWALL Kreuzstraße 0 Bielefeld NRW 33602 Germany;X-APPLE-RADIUS=500;X-TITLE=Kreuzstraße 0:geo:8.5319178,52.0161698
END:VEVENT
END:VCALENDAR