BEGIN:VCALENDAR
VERSION:2.0
PRODID:-//kompott.org - ECPv6.13.2.1//NONSGML v1.0//EN
CALSCALE:GREGORIAN
METHOD:PUBLISH
X-ORIGINAL-URL:https://kompott.org
X-WR-CALDESC:Veranstaltungen für kompott.org
REFRESH-INTERVAL;VALUE=DURATION:PT1H
X-Robots-Tag:noindex
X-PUBLISHED-TTL:PT1H
BEGIN:VTIMEZONE
TZID:Europe/Berlin
BEGIN:DAYLIGHT
TZOFFSETFROM:+0100
TZOFFSETTO:+0200
TZNAME:CEST
DTSTART:20260329T010000
END:DAYLIGHT
BEGIN:STANDARD
TZOFFSETFROM:+0200
TZOFFSETTO:+0100
TZNAME:CET
DTSTART:20261025T010000
END:STANDARD
END:VTIMEZONE
BEGIN:VEVENT
DTSTART;TZID=Europe/Berlin:20260315T200000
DTEND;TZID=Europe/Berlin:20260315T213000
DTSTAMP:20260421T105902
CREATED:20260208T212958Z
LAST-MODIFIED:20260208T213025Z
UID:10000118-1773604800-1773610200@kompott.org
SUMMARY:NICHT BEWEGEN | Schauspiel am AlarmTheater
DESCRIPTION:nach Emmanuel Darley\n\nZWEI SCHRÄGE TYPEN. Unterschiedlicher könnten sie nicht sein\, doch sie ziehen sich an wie Magneten. Der Getriebene\, der nie ankommt. Schneller\, weiter\, vorwärts. Der Wartende\, der nie beginnt? \nHumorig\, mit Tiefgang und voller existentieller Widersprüche erkundet das Schauspiel Zustände des Menschseins\, die wir alle kennen – zwischen Bewegung und Ruhe\, Weitergehen und Stillstehen\, Verloren und Verwurzelt-Sein. Wo findet sich zwischen diesen extremen Polen der Weg zur eigenen Ganzheit? \nREGIE: Dietlind Budde\nDRAMATURGIE: Ellen Blanke\nAKTEURE: Harald Otto Schmid | Mohammad Osman \nKARTEN: 18 € | 10 € (ermäßigt) \nRESERVIERUNGEN UNTER:\ntel. 0521 137809\nper E-Mail. info@alarmtheater.de\nonline über unser Reservierungsformular:\nwww.alarmtheater.de/de/service/karten \nMehr Infos auf unserer WEBSITE.
URL:https://kompott.org/event/nicht-bewegen-schauspiel-am-alarmtheater/2026-03-15/
LOCATION:ALARMTHEATER\, Gustav-Adolf-Str. 17\, Bielefeld\, NRW\, 33615\, Germany
CATEGORIES:Musical,Theater
ATTACH;FMTTYPE=image/jpeg:https://kompott.org/wp-content/uploads/2026/02/nicht-bewegen_bild_ohnerand.jpg
ORGANIZER;CN="AlarmTheater":MAILTO:info@alarmtheater.de
END:VEVENT
BEGIN:VEVENT
DTSTART;TZID=Europe/Berlin:20260314T200000
DTEND;TZID=Europe/Berlin:20260314T213000
DTSTAMP:20260421T105902
CREATED:20260208T212958Z
LAST-MODIFIED:20260208T213025Z
UID:10000117-1773518400-1773523800@kompott.org
SUMMARY:NICHT BEWEGEN | Schauspiel am AlarmTheater
DESCRIPTION:nach Emmanuel Darley\n\nZWEI SCHRÄGE TYPEN. Unterschiedlicher könnten sie nicht sein\, doch sie ziehen sich an wie Magneten. Der Getriebene\, der nie ankommt. Schneller\, weiter\, vorwärts. Der Wartende\, der nie beginnt? \nHumorig\, mit Tiefgang und voller existentieller Widersprüche erkundet das Schauspiel Zustände des Menschseins\, die wir alle kennen – zwischen Bewegung und Ruhe\, Weitergehen und Stillstehen\, Verloren und Verwurzelt-Sein. Wo findet sich zwischen diesen extremen Polen der Weg zur eigenen Ganzheit? \nREGIE: Dietlind Budde\nDRAMATURGIE: Ellen Blanke\nAKTEURE: Harald Otto Schmid | Mohammad Osman \nKARTEN: 18 € | 10 € (ermäßigt) \nRESERVIERUNGEN UNTER:\ntel. 0521 137809\nper E-Mail. info@alarmtheater.de\nonline über unser Reservierungsformular:\nwww.alarmtheater.de/de/service/karten \nMehr Infos auf unserer WEBSITE.
URL:https://kompott.org/event/nicht-bewegen-schauspiel-am-alarmtheater/2026-03-14/
LOCATION:ALARMTHEATER\, Gustav-Adolf-Str. 17\, Bielefeld\, NRW\, 33615\, Germany
CATEGORIES:Musical,Theater
ATTACH;FMTTYPE=image/jpeg:https://kompott.org/wp-content/uploads/2026/02/nicht-bewegen_bild_ohnerand.jpg
ORGANIZER;CN="AlarmTheater":MAILTO:info@alarmtheater.de
END:VEVENT
BEGIN:VEVENT
DTSTART;TZID=Europe/Berlin:20260313T200000
DTEND;TZID=Europe/Berlin:20260313T213000
DTSTAMP:20260421T105902
CREATED:20260208T212958Z
LAST-MODIFIED:20260208T213025Z
UID:10000116-1773432000-1773437400@kompott.org
SUMMARY:NICHT BEWEGEN | Schauspiel am AlarmTheater
DESCRIPTION:nach Emmanuel Darley\n\nZWEI SCHRÄGE TYPEN. Unterschiedlicher könnten sie nicht sein\, doch sie ziehen sich an wie Magneten. Der Getriebene\, der nie ankommt. Schneller\, weiter\, vorwärts. Der Wartende\, der nie beginnt? \nHumorig\, mit Tiefgang und voller existentieller Widersprüche erkundet das Schauspiel Zustände des Menschseins\, die wir alle kennen – zwischen Bewegung und Ruhe\, Weitergehen und Stillstehen\, Verloren und Verwurzelt-Sein. Wo findet sich zwischen diesen extremen Polen der Weg zur eigenen Ganzheit? \nREGIE: Dietlind Budde\nDRAMATURGIE: Ellen Blanke\nAKTEURE: Harald Otto Schmid | Mohammad Osman \nKARTEN: 18 € | 10 € (ermäßigt) \nRESERVIERUNGEN UNTER:\ntel. 0521 137809\nper E-Mail. info@alarmtheater.de\nonline über unser Reservierungsformular:\nwww.alarmtheater.de/de/service/karten \nMehr Infos auf unserer WEBSITE.
URL:https://kompott.org/event/nicht-bewegen-schauspiel-am-alarmtheater/2026-03-13/
LOCATION:ALARMTHEATER\, Gustav-Adolf-Str. 17\, Bielefeld\, NRW\, 33615\, Germany
CATEGORIES:Musical,Theater
ATTACH;FMTTYPE=image/jpeg:https://kompott.org/wp-content/uploads/2026/02/nicht-bewegen_bild_ohnerand.jpg
ORGANIZER;CN="AlarmTheater":MAILTO:info@alarmtheater.de
END:VEVENT
BEGIN:VEVENT
DTSTART;TZID=Europe/Berlin:20260312T200000
DTEND;TZID=Europe/Berlin:20260312T213000
DTSTAMP:20260421T105902
CREATED:20260208T212958Z
LAST-MODIFIED:20260208T213025Z
UID:10000115-1773345600-1773351000@kompott.org
SUMMARY:NICHT BEWEGEN | Schauspiel am AlarmTheater
DESCRIPTION:nach Emmanuel Darley\n\nZWEI SCHRÄGE TYPEN. Unterschiedlicher könnten sie nicht sein\, doch sie ziehen sich an wie Magneten. Der Getriebene\, der nie ankommt. Schneller\, weiter\, vorwärts. Der Wartende\, der nie beginnt? \nHumorig\, mit Tiefgang und voller existentieller Widersprüche erkundet das Schauspiel Zustände des Menschseins\, die wir alle kennen – zwischen Bewegung und Ruhe\, Weitergehen und Stillstehen\, Verloren und Verwurzelt-Sein. Wo findet sich zwischen diesen extremen Polen der Weg zur eigenen Ganzheit? \nREGIE: Dietlind Budde\nDRAMATURGIE: Ellen Blanke\nAKTEURE: Harald Otto Schmid | Mohammad Osman \nKARTEN: 18 € | 10 € (ermäßigt) \nRESERVIERUNGEN UNTER:\ntel. 0521 137809\nper E-Mail. info@alarmtheater.de\nonline über unser Reservierungsformular:\nwww.alarmtheater.de/de/service/karten \nMehr Infos auf unserer WEBSITE.
URL:https://kompott.org/event/nicht-bewegen-schauspiel-am-alarmtheater/2026-03-12/
LOCATION:ALARMTHEATER\, Gustav-Adolf-Str. 17\, Bielefeld\, NRW\, 33615\, Germany
CATEGORIES:Musical,Theater
ATTACH;FMTTYPE=image/jpeg:https://kompott.org/wp-content/uploads/2026/02/nicht-bewegen_bild_ohnerand.jpg
ORGANIZER;CN="AlarmTheater":MAILTO:info@alarmtheater.de
END:VEVENT
BEGIN:VEVENT
DTSTART;TZID=Europe/Berlin:20260307T200000
DTEND;TZID=Europe/Berlin:20260307T213000
DTSTAMP:20260421T105902
CREATED:20260208T212958Z
LAST-MODIFIED:20260208T213025Z
UID:10000114-1772913600-1772919000@kompott.org
SUMMARY:NICHT BEWEGEN | Schauspiel am AlarmTheater
DESCRIPTION:nach Emmanuel Darley\n\nZWEI SCHRÄGE TYPEN. Unterschiedlicher könnten sie nicht sein\, doch sie ziehen sich an wie Magneten. Der Getriebene\, der nie ankommt. Schneller\, weiter\, vorwärts. Der Wartende\, der nie beginnt? \nHumorig\, mit Tiefgang und voller existentieller Widersprüche erkundet das Schauspiel Zustände des Menschseins\, die wir alle kennen – zwischen Bewegung und Ruhe\, Weitergehen und Stillstehen\, Verloren und Verwurzelt-Sein. Wo findet sich zwischen diesen extremen Polen der Weg zur eigenen Ganzheit? \nREGIE: Dietlind Budde\nDRAMATURGIE: Ellen Blanke\nAKTEURE: Harald Otto Schmid | Mohammad Osman \nKARTEN: 18 € | 10 € (ermäßigt) \nRESERVIERUNGEN UNTER:\ntel. 0521 137809\nper E-Mail. info@alarmtheater.de\nonline über unser Reservierungsformular:\nwww.alarmtheater.de/de/service/karten \nMehr Infos auf unserer WEBSITE.
URL:https://kompott.org/event/nicht-bewegen-schauspiel-am-alarmtheater/2026-03-07/
LOCATION:ALARMTHEATER\, Gustav-Adolf-Str. 17\, Bielefeld\, NRW\, 33615\, Germany
CATEGORIES:Musical,Theater
ATTACH;FMTTYPE=image/jpeg:https://kompott.org/wp-content/uploads/2026/02/nicht-bewegen_bild_ohnerand.jpg
ORGANIZER;CN="AlarmTheater":MAILTO:info@alarmtheater.de
END:VEVENT
BEGIN:VEVENT
DTSTART;TZID=Europe/Berlin:20260306T200000
DTEND;TZID=Europe/Berlin:20260306T213000
DTSTAMP:20260421T105902
CREATED:20260208T212958Z
LAST-MODIFIED:20260208T213025Z
UID:10000113-1772827200-1772832600@kompott.org
SUMMARY:NICHT BEWEGEN | Schauspiel am AlarmTheater
DESCRIPTION:nach Emmanuel Darley\n\nZWEI SCHRÄGE TYPEN. Unterschiedlicher könnten sie nicht sein\, doch sie ziehen sich an wie Magneten. Der Getriebene\, der nie ankommt. Schneller\, weiter\, vorwärts. Der Wartende\, der nie beginnt? \nHumorig\, mit Tiefgang und voller existentieller Widersprüche erkundet das Schauspiel Zustände des Menschseins\, die wir alle kennen – zwischen Bewegung und Ruhe\, Weitergehen und Stillstehen\, Verloren und Verwurzelt-Sein. Wo findet sich zwischen diesen extremen Polen der Weg zur eigenen Ganzheit? \nREGIE: Dietlind Budde\nDRAMATURGIE: Ellen Blanke\nAKTEURE: Harald Otto Schmid | Mohammad Osman \nKARTEN: 18 € | 10 € (ermäßigt) \nRESERVIERUNGEN UNTER:\ntel. 0521 137809\nper E-Mail. info@alarmtheater.de\nonline über unser Reservierungsformular:\nwww.alarmtheater.de/de/service/karten \nMehr Infos auf unserer WEBSITE.
URL:https://kompott.org/event/nicht-bewegen-schauspiel-am-alarmtheater/2026-03-06/
LOCATION:ALARMTHEATER\, Gustav-Adolf-Str. 17\, Bielefeld\, NRW\, 33615\, Germany
CATEGORIES:Musical,Theater
ATTACH;FMTTYPE=image/jpeg:https://kompott.org/wp-content/uploads/2026/02/nicht-bewegen_bild_ohnerand.jpg
ORGANIZER;CN="AlarmTheater":MAILTO:info@alarmtheater.de
END:VEVENT
BEGIN:VEVENT
DTSTART;TZID=Europe/Berlin:20260305T200000
DTEND;TZID=Europe/Berlin:20260305T213000
DTSTAMP:20260421T105902
CREATED:20260208T212958Z
LAST-MODIFIED:20260208T213025Z
UID:10000112-1772740800-1772746200@kompott.org
SUMMARY:NICHT BEWEGEN | Schauspiel am AlarmTheater
DESCRIPTION:nach Emmanuel Darley\n\nZWEI SCHRÄGE TYPEN. Unterschiedlicher könnten sie nicht sein\, doch sie ziehen sich an wie Magneten. Der Getriebene\, der nie ankommt. Schneller\, weiter\, vorwärts. Der Wartende\, der nie beginnt? \nHumorig\, mit Tiefgang und voller existentieller Widersprüche erkundet das Schauspiel Zustände des Menschseins\, die wir alle kennen – zwischen Bewegung und Ruhe\, Weitergehen und Stillstehen\, Verloren und Verwurzelt-Sein. Wo findet sich zwischen diesen extremen Polen der Weg zur eigenen Ganzheit? \nREGIE: Dietlind Budde\nDRAMATURGIE: Ellen Blanke\nAKTEURE: Harald Otto Schmid | Mohammad Osman \nKARTEN: 18 € | 10 € (ermäßigt) \nRESERVIERUNGEN UNTER:\ntel. 0521 137809\nper E-Mail. info@alarmtheater.de\nonline über unser Reservierungsformular:\nwww.alarmtheater.de/de/service/karten \nMehr Infos auf unserer WEBSITE.
URL:https://kompott.org/event/nicht-bewegen-schauspiel-am-alarmtheater/2026-03-05/
LOCATION:ALARMTHEATER\, Gustav-Adolf-Str. 17\, Bielefeld\, NRW\, 33615\, Germany
CATEGORIES:Musical,Theater
ATTACH;FMTTYPE=image/jpeg:https://kompott.org/wp-content/uploads/2026/02/nicht-bewegen_bild_ohnerand.jpg
ORGANIZER;CN="AlarmTheater":MAILTO:info@alarmtheater.de
END:VEVENT
END:VCALENDAR